BEGIN:VCALENDAR
VERSION:2.0
PRODID:-//Ryan White - ECPv3.9.1//NONSGML v1.0//EN
CALSCALE:GREGORIAN
METHOD:PUBLISH
X-WR-CALNAME:Ryan White
X-ORIGINAL-URL:http://thecarecouncil.org
X-WR-CALDESC:Events for Ryan White
BEGIN:VEVENT
DTSTART;VALUE=DATE-TIME:20260506T133000
DTEND;VALUE=DATE-TIME:20260506T153000
DTSTAMP:20260424T130202
CREATED:20150223T191208
LAST-MODIFIED:20250313T184018
UID:5880-1778074200-1778081400@http://thecarecouncil.org
SUMMARY:Care Council
DESCRIPTION:Please email kscussel@thehealthcouncil.org for the meeting link to attend virtually.
URL:http://thecarecouncil.org/event/care-council-2/2026-05-06/
LOCATION:3402 N 22nd St, Tampa, 33605
CATEGORIES:Care Council
END:VEVENT
BEGIN:VEVENT
DTSTART;VALUE=DATE-TIME:20260512T133000
DTEND;VALUE=DATE-TIME:20260512T150000
DTSTAMP:20260424T130202
CREATED:20230725T133454
LAST-MODIFIED:20230725T133454
UID:6193-1778592600-1778598000@http://thecarecouncil.org
SUMMARY:Membership and Community Outreach Committee
DESCRIPTION:
URL:http://thecarecouncil.org/event/membership-and-community-outreach-committee-2023-08-21-2025-07-08/2026-05-12/
LOCATION:3402 N 22nd St, Tampa, 33605
CATEGORIES:Membership and Community Outreach
END:VEVENT
BEGIN:VEVENT
DTSTART;VALUE=DATE-TIME:20260514T093000
DTEND;VALUE=DATE-TIME:20260514T110000
DTSTAMP:20260424T130202
CREATED:20230725T133059
LAST-MODIFIED:20230725T133059
UID:6165-1778751000-1778756400@http://thecarecouncil.org
SUMMARY:Planning and Evaluation Committee
DESCRIPTION:
URL:http://thecarecouncil.org/event/planning-and-evaluation-committee-2-2025-07-10/2026-05-14/
LOCATION:3050 1st Avenue S., St. Petersburg, 33712
GEO:-82.6744963;27.769377
CATEGORIES:Planning and Evaluation
END:VEVENT
BEGIN:VEVENT
DTSTART;VALUE=DATE-TIME:20260514T110000
DTEND;VALUE=DATE-TIME:20260514T123000
DTSTAMP:20260424T130202
CREATED:20230608T184012
LAST-MODIFIED:20250625T144340
UID:5986-1778756400-1778761800@http://thecarecouncil.org
SUMMARY:Resource Prioritization and Allocation Recommendations Committee (RPARC)
DESCRIPTION:
URL:http://thecarecouncil.org/event/resource-prioritization-and-allocation-recommendations-committee-rparc/2026-05-14/
LOCATION:3050 1st Avenue S., St. Petersburg, 33712
GEO:-82.6744963;27.769377
CATEGORIES:Resource Prioritization and Allocation Recommendations
END:VEVENT
BEGIN:VEVENT
DTSTART;VALUE=DATE-TIME:20260521T133000
DTEND;VALUE=DATE-TIME:20260521T150000
DTSTAMP:20260424T130202
CREATED:20230216T170921
LAST-MODIFIED:20250625T151132
UID:5964-1779370200-1779375600@http://thecarecouncil.org
SUMMARY:Health Services Advisory Committee
DESCRIPTION:
URL:http://thecarecouncil.org/event/health-services-advisory-committee-2023-05-18-2025-07-17/2026-05-21/
LOCATION:1002 East Palm Avenue, Tampa, FL, 33605, United States
GEO:-82.4495265;27.9626714
CATEGORIES:Health Services Advisory
END:VEVENT
BEGIN:VEVENT
DTSTART;VALUE=DATE-TIME:20260528T100000
DTEND;VALUE=DATE-TIME:20260528T113000
DTSTAMP:20260424T130202
CREATED:20230725T134057
LAST-MODIFIED:20230725T134057
UID:6149-1779962400-1779967800@http://thecarecouncil.org
SUMMARY:Women, Infants, Children, Youth, and Families Work Group
DESCRIPTION:Please email amachtel@thehealthcouncil.org for the meeting link.
URL:http://thecarecouncil.org/event/women-infants-children-youth-and-families-work-group-2025-07-24/2026-05-28/
CATEGORIES:Women, Infants, Children, Youth and Families
END:VEVENT
BEGIN:VEVENT
DTSTART;VALUE=DATE-TIME:20260603T133000
DTEND;VALUE=DATE-TIME:20260603T153000
DTSTAMP:20260424T130202
CREATED:20150223T191208
LAST-MODIFIED:20250313T184018
UID:5956-1780493400-1780500600@http://thecarecouncil.org
SUMMARY:Care Council
DESCRIPTION:Please email kscussel@thehealthcouncil.org for the meeting link to attend virtually.
URL:http://thecarecouncil.org/event/care-council-2/2026-06-03/
LOCATION:3402 N 22nd St, Tampa, 33605
CATEGORIES:Care Council
END:VEVENT
BEGIN:VEVENT
DTSTART;VALUE=DATE-TIME:20260609T133000
DTEND;VALUE=DATE-TIME:20260609T150000
DTSTAMP:20260424T130202
CREATED:20230725T133454
LAST-MODIFIED:20230725T133454
UID:6194-1781011800-1781017200@http://thecarecouncil.org
SUMMARY:Membership and Community Outreach Committee
DESCRIPTION:
URL:http://thecarecouncil.org/event/membership-and-community-outreach-committee-2023-08-21-2025-07-08/2026-06-09/
LOCATION:3402 N 22nd St, Tampa, 33605
CATEGORIES:Membership and Community Outreach
END:VEVENT
BEGIN:VEVENT
DTSTART;VALUE=DATE-TIME:20260611T093000
DTEND;VALUE=DATE-TIME:20260611T110000
DTSTAMP:20260424T130202
CREATED:20230725T133059
LAST-MODIFIED:20230725T133059
UID:6166-1781170200-1781175600@http://thecarecouncil.org
SUMMARY:Planning and Evaluation Committee
DESCRIPTION:
URL:http://thecarecouncil.org/event/planning-and-evaluation-committee-2-2025-07-10/2026-06-11/
LOCATION:3050 1st Avenue S., St. Petersburg, 33712
GEO:-82.6744963;27.769377
CATEGORIES:Planning and Evaluation
END:VEVENT
BEGIN:VEVENT
DTSTART;VALUE=DATE-TIME:20260611T110000
DTEND;VALUE=DATE-TIME:20260611T123000
DTSTAMP:20260424T130202
CREATED:20230608T184012
LAST-MODIFIED:20250625T144340
UID:5987-1781175600-1781181000@http://thecarecouncil.org
SUMMARY:Resource Prioritization and Allocation Recommendations Committee (RPARC)
DESCRIPTION:
URL:http://thecarecouncil.org/event/resource-prioritization-and-allocation-recommendations-committee-rparc/2026-06-11/
LOCATION:3050 1st Avenue S., St. Petersburg, 33712
GEO:-82.6744963;27.769377
CATEGORIES:Resource Prioritization and Allocation Recommendations
END:VEVENT
END:VCALENDAR